BEGIN:VCALENDAR
VERSION:2.0
PRODID:-//ECHORR - ECPv6.15.13.1//NONSGML v1.0//EN
CALSCALE:GREGORIAN
METHOD:PUBLISH
X-ORIGINAL-URL:https://echorr.com
X-WR-CALDESC:Events for ECHORR
REFRESH-INTERVAL;VALUE=DURATION:PT1H
X-Robots-Tag:noindex
X-PUBLISHED-TTL:PT1H
BEGIN:VTIMEZONE
TZID:America/New_York
BEGIN:DAYLIGHT
TZOFFSETFROM:-0500
TZOFFSETTO:-0400
TZNAME:EDT
DTSTART:20240310T070000
END:DAYLIGHT
BEGIN:STANDARD
TZOFFSETFROM:-0400
TZOFFSETTO:-0500
TZNAME:EST
DTSTART:20241103T060000
END:STANDARD
BEGIN:DAYLIGHT
TZOFFSETFROM:-0500
TZOFFSETTO:-0400
TZNAME:EDT
DTSTART:20250309T070000
END:DAYLIGHT
BEGIN:STANDARD
TZOFFSETFROM:-0400
TZOFFSETTO:-0500
TZNAME:EST
DTSTART:20251102T060000
END:STANDARD
BEGIN:DAYLIGHT
TZOFFSETFROM:-0500
TZOFFSETTO:-0400
TZNAME:EDT
DTSTART:20260308T070000
END:DAYLIGHT
BEGIN:STANDARD
TZOFFSETFROM:-0400
TZOFFSETTO:-0500
TZNAME:EST
DTSTART:20261101T060000
END:STANDARD
END:VTIMEZONE
BEGIN:VEVENT
DTSTART;TZID=America/New_York:20250603T080000
DTEND;TZID=America/New_York:20250603T170000
DTSTAMP:20260423T085313
CREATED:20250603T224912Z
LAST-MODIFIED:20250715T203707Z
UID:844-1748937600-1748970000@echorr.com
SUMMARY:ECHORR 20th Anniversary Race Weekend
DESCRIPTION:ECHORR Celebrates it’s 20th Anniversary with 4 classes of racing at 2 different venues. \nSaturday August 2nd 2025: \nRandy’s Raceway \nDoors open at 8am – Racing to start at 10am \nFRAY/SS on the Wizzard road course – 3 minute Round Robin \nECHORR Indy on the Tri-oval – 2 minute Round Robin \nSunday August 3rd 2025 \nDurant’s Raceway \nDoors open at 8am – Racing to start at 10am \nECHORR Nostalgia on the short Maxx road course – 2 Minute round Robin \nDash  Commemorative give away Body to be run on ECHORR SOS chassis – 2 minute qualifier with Bump up  2 minute Mains and 3 minute A main \n 
URL:https://echorr.com/event/echorr-20th-anniversary-race-weekend/
LOCATION:PA
CATEGORIES:Races
END:VEVENT
END:VCALENDAR